BEGIN:VCALENDAR
VERSION:2.0
PRODID:hinto.net
X-PUBLISHED-TTL:P1W
BEGIN:VEVENT
UID:hinto.net-event_show-6872144
DTSTART:20260422T223500
SEQUENCE:0
CREATED:20260402T043203
LAST-MODIFIED:20260402T043203
TRANSP:OPAQUE
DTEND:20260423T002136
LOCATION:
SUMMARY:RTS 2: Documentaires
CLASS:PUBLIC
DESCRIPTION:
ORGANIZER:
DTSTAMP:20260423T202134
ATTACH:https://www.hinto.net/de/events/rts-2-documentaires-22-04-2026-2235-e2800548-20.html
END:VEVENT
END:VCALENDAR
