BEGIN:VCALENDAR
VERSION:2.0
PRODID:hinto.net
X-PUBLISHED-TTL:P1W
BEGIN:VEVENT
UID:hinto.net-event_show-6919427
DTSTART:20260419T200000
SEQUENCE:0
CREATED:20260417T042409
LAST-MODIFIED:20260417T042409
TRANSP:OPAQUE
DTEND:20260419T200300
LOCATION:
SUMMARY:RTS 1: Météo
CLASS:PUBLIC
DESCRIPTION:
ORGANIZER:
DTSTAMP:20260420T090422
ATTACH:https://www.hinto.net/de/events/rts-1-meteo-19-04-2026-2000-e2842384-20.html
END:VEVENT
END:VCALENDAR
