BEGIN:VCALENDAR
VERSION:2.0
PRODID:hinto.net
X-PUBLISHED-TTL:P1W
BEGIN:VEVENT
UID:hinto.net-event_show-6862623
DTSTART:20260419T131500
SEQUENCE:0
CREATED:20260402T032111
LAST-MODIFIED:20260402T032111
TRANSP:OPAQUE
DTEND:20260419T134044
LOCATION:
SUMMARY:RTS 1: Geopolitis
CLASS:PUBLIC
DESCRIPTION:
ORGANIZER:
DTSTAMP:20260420T011556
ATTACH:https://www.hinto.net/de/events/rts-1-geopolitis-19-04-2026-1315-e2793239-20.html
END:VEVENT
END:VCALENDAR
