BEGIN:VCALENDAR
VERSION:2.0
PRODID:hinto.net
X-PUBLISHED-TTL:P1W
BEGIN:VEVENT
UID:hinto.net-event_show-6862632
DTSTART:20260419T193000
SEQUENCE:0
CREATED:20260329T150001
LAST-MODIFIED:20260329T150001
TRANSP:OPAQUE
DTEND:20260419T200100
LOCATION:
SUMMARY:RTS 1: 19h30
CLASS:PUBLIC
DESCRIPTION:
ORGANIZER:
DTSTAMP:20260420T064711
ATTACH:https://www.hinto.net/de/events/rts-1-19h30-19-04-2026-1930-e2793248-20.html
END:VEVENT
END:VCALENDAR
