BEGIN:VCALENDAR
VERSION:2.0
PRODID:hinto.net
X-PUBLISHED-TTL:P1W
BEGIN:VEVENT
UID:hinto.net-event_show-6862909
DTSTART:20260419T190500
SEQUENCE:0
CREATED:20260329T151457
LAST-MODIFIED:20260329T151457
TRANSP:OPAQUE
DTEND:20260419T201500
LOCATION:
SUMMARY:RTL: Hitster - Die Gameshow der grössten Hits
CLASS:PUBLIC
DESCRIPTION:
ORGANIZER:
DTSTAMP:20260420T093626
ATTACH:https://www.hinto.net/de/events/rtl-hitster-die-gameshow-der-groessten-hits-19-04-2026-1905-e2793525-20.html
END:VEVENT
END:VCALENDAR
