BEGIN:VCALENDAR
VERSION:2.0
PRODID:hinto.net
X-PUBLISHED-TTL:P1W
BEGIN:VEVENT
UID:hinto.net-event_show-6922280
DTSTART:20260419T044500
SEQUENCE:0
CREATED:20260418T113513
LAST-MODIFIED:20260418T113513
TRANSP:OPAQUE
DTEND:20260419T054500
LOCATION:
SUMMARY:RTL: Der Blaulicht Report
CLASS:PUBLIC
DESCRIPTION:
ORGANIZER:
DTSTAMP:20260419T144534
ATTACH:https://www.hinto.net/de/events/rtl-der-blaulicht-report-19-04-2026-0445-e2844807-20.html
END:VEVENT
END:VCALENDAR
