BEGIN:VCALENDAR
VERSION:2.0
PRODID:hinto.net
X-PUBLISHED-TTL:P1W
BEGIN:VEVENT
UID:hinto.net-event_show-6865085
DTSTART:20260418T215000
SEQUENCE:0
CREATED:20260330T171025
LAST-MODIFIED:20260330T171025
TRANSP:OPAQUE
DTEND:20260419T000000
LOCATION:
SUMMARY:Puls 8: Resident Evil: The Final Chapter
CLASS:PUBLIC
DESCRIPTION:
ORGANIZER:
DTSTAMP:20260419T161550
ATTACH:https://www.hinto.net/de/events/puls-8-resident-evil-the-final-chapter-18-04-2026-2150-e2795304-20.html
END:VEVENT
END:VCALENDAR
