BEGIN:VCALENDAR
VERSION:2.0
PRODID:hinto.net
X-PUBLISHED-TTL:P1W
BEGIN:VEVENT
UID:hinto.net-event_show-6881704
DTSTART:20260423T020000
SEQUENCE:0
CREATED:20260404T193319
LAST-MODIFIED:20260404T193319
TRANSP:OPAQUE
DTEND:20260423T033500
LOCATION:
SUMMARY:Puls 8: Norbit
CLASS:PUBLIC
DESCRIPTION:
ORGANIZER:
DTSTAMP:20260423T214626
ATTACH:https://www.hinto.net/de/events/puls-8-norbit-23-04-2026-0200-e2809422-20.html
END:VEVENT
END:VCALENDAR
