BEGIN:VCALENDAR
VERSION:2.0
PRODID:hinto.net
X-PUBLISHED-TTL:P1W
BEGIN:VEVENT
UID:hinto.net-event_show-6867443
DTSTART:20260419T190500
SEQUENCE:0
CREATED:20260331T202006
LAST-MODIFIED:20260331T202006
TRANSP:OPAQUE
DTEND:20260419T201500
LOCATION:
SUMMARY:ProSieben: Galileo X-Plorer: Future China
CLASS:PUBLIC
DESCRIPTION:
ORGANIZER:
DTSTAMP:20260419T231906
ATTACH:https://www.hinto.net/de/events/prosieben-galileo-x-plorer-future-china-19-04-2026-1905-e2797411-20.html
END:VEVENT
END:VCALENDAR
