BEGIN:VCALENDAR
VERSION:2.0
PRODID:hinto.net
X-PUBLISHED-TTL:P1W
BEGIN:VEVENT
UID:hinto.net-event_show-6862836
DTSTART:20260419T130000
SEQUENCE:0
CREATED:20260329T151051
LAST-MODIFIED:20260329T151051
TRANSP:OPAQUE
DTEND:20260419T131700
LOCATION:
SUMMARY:ORF 2: ZIB
CLASS:PUBLIC
DESCRIPTION:
ORGANIZER:
DTSTAMP:20260420T021138
ATTACH:https://www.hinto.net/de/events/orf-2-zib-19-04-2026-1300-e2793452-20.html
END:VEVENT
END:VCALENDAR
