BEGIN:VCALENDAR
VERSION:2.0
PRODID:hinto.net
X-PUBLISHED-TTL:P1W
BEGIN:VEVENT
UID:hinto.net-event_show-6928043
DTSTART:20260423T040500
SEQUENCE:0
CREATED:20260420T182522
LAST-MODIFIED:20260420T182522
TRANSP:OPAQUE
DTEND:20260423T042500
LOCATION:
SUMMARY:ORF 2: Natur im Garten
CLASS:PUBLIC
DESCRIPTION:
ORGANIZER:
DTSTAMP:20260423T210416
ATTACH:https://www.hinto.net/de/events/orf-2-natur-im-garten-23-04-2026-0405-e2849983-20.html
END:VEVENT
END:VCALENDAR
