BEGIN:VCALENDAR
VERSION:2.0
PRODID:hinto.net
X-PUBLISHED-TTL:P1W
BEGIN:VEVENT
UID:hinto.net-event_show-6862835
DTSTART:20260419T123000
SEQUENCE:0
CREATED:20260329T151050
LAST-MODIFIED:20260329T151050
TRANSP:OPAQUE
DTEND:20260419T130000
LOCATION:
SUMMARY:ORF 2: Vom Klang getragen
CLASS:PUBLIC
DESCRIPTION:
ORGANIZER:
DTSTAMP:20260419T173746
ATTACH:https://www.hinto.net/de/events/orf-2-vom-klang-getragen-19-04-2026-1230-e2793451-20.html
END:VEVENT
END:VCALENDAR
