BEGIN:VCALENDAR
VERSION:2.0
PRODID:hinto.net
X-PUBLISHED-TTL:P1W
BEGIN:VEVENT
UID:hinto.net-event_show-6872335
DTSTART:20260422T153500
SEQUENCE:0
CREATED:20260402T044527
LAST-MODIFIED:20260402T044527
TRANSP:OPAQUE
DTEND:20260422T162000
LOCATION:
SUMMARY:ORF 2: Die Rosenheim-Cops
CLASS:PUBLIC
DESCRIPTION:
ORGANIZER:
DTSTAMP:20260419T225937
ATTACH:https://www.hinto.net/de/events/orf-2-die-rosenheim-cops-22-04-2026-1535-e2800739-20.html
END:VEVENT
END:VCALENDAR
