BEGIN:VCALENDAR
VERSION:2.0
PRODID:hinto.net
X-PUBLISHED-TTL:P1W
BEGIN:VEVENT
UID:hinto.net-event_show-6808582
DTSTART:20260402T153500
SEQUENCE:0
CREATED:20260312T102004
LAST-MODIFIED:20260312T102004
TRANSP:OPAQUE
DTEND:20260402T162000
LOCATION:
SUMMARY:ORF 2: Die Rosenheim-Cops
CLASS:PUBLIC
DESCRIPTION:
ORGANIZER:
DTSTAMP:20260419T164237
ATTACH:https://www.hinto.net/de/events/orf-2-die-rosenheim-cops-02-04-2026-1535-e2748195-20.html
END:VEVENT
END:VCALENDAR
