BEGIN:VCALENDAR
VERSION:2.0
PRODID:hinto.net
X-PUBLISHED-TTL:P1W
BEGIN:VEVENT
UID:hinto.net-event_show-6928042
DTSTART:20260423T025000
SEQUENCE:0
CREATED:20260420T182521
LAST-MODIFIED:20260420T182521
TRANSP:OPAQUE
DTEND:20260423T025500
LOCATION:
SUMMARY:ORF 2: Autofocus
CLASS:PUBLIC
DESCRIPTION:
ORGANIZER:
DTSTAMP:20260423T161641
ATTACH:https://www.hinto.net/de/events/orf-2-autofocus-23-04-2026-0250-e2849982-20.html
END:VEVENT
END:VCALENDAR
