BEGIN:VCALENDAR
VERSION:2.0
PRODID:hinto.net
X-PUBLISHED-TTL:P1W
BEGIN:VEVENT
UID:hinto.net-event_show-6872354
DTSTART:20260423T025500
SEQUENCE:0
CREATED:20260420T180204
LAST-MODIFIED:20260420T180204
TRANSP:OPAQUE
DTEND:20260423T034000
LOCATION:
SUMMARY:ORF 2: Die Rosenheim-Cops
CLASS:PUBLIC
DESCRIPTION:
ORGANIZER:
DTSTAMP:20260423T185751
ATTACH:https://www.hinto.net/de/events/orf-2-die-rosenheim-cops-23-04-2026-0255-e2800758-20.html
END:VEVENT
END:VCALENDAR
