BEGIN:VCALENDAR
VERSION:2.0
PRODID:hinto.net
X-PUBLISHED-TTL:P1W
BEGIN:VEVENT
UID:hinto.net-event_show-6862813
DTSTART:20260419T162500
SEQUENCE:0
CREATED:20260329T151026
LAST-MODIFIED:20260329T151026
TRANSP:OPAQUE
DTEND:20260419T190000
LOCATION:
SUMMARY:ORF 1: Eishockey ICE Hockey League 2025/2026: Finale 3 Moser Medical Graz 99ers - Falkensteiner Pustertal
CLASS:PUBLIC
DESCRIPTION:
ORGANIZER:
DTSTAMP:20260420T070311
ATTACH:https://www.hinto.net/de/events/orf-1-eishockey-ice-hockey-league-20252026-finale-3-moser-medical-graz-99ers-falkensteiner-pustertal-19-04-2026-1625-e2793429-20.html
END:VEVENT
END:VCALENDAR
