BEGIN:VCALENDAR
VERSION:2.0
PRODID:hinto.net
X-PUBLISHED-TTL:P1W
BEGIN:VEVENT
UID:hinto.net-event_show-6863774
DTSTART:20260419T130000
SEQUENCE:0
CREATED:20260329T155824
LAST-MODIFIED:20260329T155824
TRANSP:OPAQUE
DTEND:20260419T135000
LOCATION:
SUMMARY:Nitro: Stargate Kommando SG-1
CLASS:PUBLIC
DESCRIPTION:
ORGANIZER:
DTSTAMP:20260419T215357
ATTACH:https://www.hinto.net/de/events/nitro-stargate-kommando-sg-1-19-04-2026-1300-e2794390-20.html
END:VEVENT
END:VCALENDAR
