BEGIN:VCALENDAR
VERSION:2.0
PRODID:hinto.net
X-PUBLISHED-TTL:P1W
BEGIN:VEVENT
UID:hinto.net-event_show-6873408
DTSTART:20260423T035000
SEQUENCE:0
CREATED:20260402T052650
LAST-MODIFIED:20260402T052650
TRANSP:OPAQUE
DTEND:20260423T043000
LOCATION:
SUMMARY:Nitro: Burn Notice
CLASS:PUBLIC
DESCRIPTION:
ORGANIZER:
DTSTAMP:20260423T201828
ATTACH:https://www.hinto.net/de/events/nitro-burn-notice-23-04-2026-0350-e2801812-20.html
END:VEVENT
END:VCALENDAR
