BEGIN:VCALENDAR
VERSION:2.0
PRODID:hinto.net
X-PUBLISHED-TTL:P1W
BEGIN:VEVENT
UID:hinto.net-event_show-6863815
DTSTART:20260419T155000
SEQUENCE:0
CREATED:20260419T135514
LAST-MODIFIED:20260419T135514
TRANSP:OPAQUE
DTEND:20260419T161000
LOCATION:
SUMMARY:Nickelodeon / CC: Willkommen bei den Louds
CLASS:PUBLIC
DESCRIPTION:
ORGANIZER:
DTSTAMP:20260420T044832
ATTACH:https://www.hinto.net/de/events/nickelodeon-cc-willkommen-bei-den-louds-19-04-2026-1550-e2794431-20.html
END:VEVENT
END:VCALENDAR
