BEGIN:VCALENDAR
VERSION:2.0
PRODID:hinto.net
X-PUBLISHED-TTL:P1W
BEGIN:VEVENT
UID:hinto.net-event_show-6922421
DTSTART:20260418T235000
SEQUENCE:0
CREATED:20260418T114146
LAST-MODIFIED:20260418T114146
TRANSP:OPAQUE
DTEND:20260419T001000
LOCATION:
SUMMARY:Nickelodeon / CC: SpongeBob Schwammkopf
CLASS:PUBLIC
DESCRIPTION:
ORGANIZER:
DTSTAMP:20260419T192928
ATTACH:https://www.hinto.net/de/events/nickelodeon-cc-spongebob-schwammkopf-18-04-2026-2350-e2844948-20.html
END:VEVENT
END:VCALENDAR
