BEGIN:VCALENDAR
VERSION:2.0
PRODID:hinto.net
X-PUBLISHED-TTL:P1W
BEGIN:VEVENT
UID:hinto.net-event_show-6606134
DTSTART:20260510T113000
SEQUENCE:0
CREATED:20260109T102236
LAST-MODIFIED:20260109T102236
TRANSP:OPAQUE
DTEND:20260510T143000
LOCATION:Schiffsteg Bürkliplatz
SUMMARY:Muttertags-Schiff
CLASS:PUBLIC
DESCRIPTION:
ORGANIZER:
DTSTAMP:20260419T223717
ATTACH:https://www.hinto.net/de/events/muttertags-schiff-10-05-2026-1130-schiffsteg-buerkliplatz-zuerich-e2586157-20.html
END:VEVENT
END:VCALENDAR
