BEGIN:VCALENDAR
VERSION:2.0
PRODID:hinto.net
X-PUBLISHED-TTL:P1W
BEGIN:VEVENT
UID:hinto.net-event_show-6903861
DTSTART:20260423T193000
SEQUENCE:0
CREATED:20260411T114621
LAST-MODIFIED:20260411T114621
TRANSP:OPAQUE

LOCATION:ZAP Brig
SUMMARY:"MORD AM MATTERHORN"
CLASS:PUBLIC
DESCRIPTION:
ORGANIZER:
DTSTAMP:20260420T040409
ATTACH:https://www.hinto.net/de/events/mord-am-matterhorn-23-04-2026-1930-zap-brig-brig-e2829098-20.html
END:VEVENT
END:VCALENDAR
