BEGIN:VCALENDAR
VERSION:2.0
PRODID:hinto.net
X-PUBLISHED-TTL:P1W
BEGIN:VEVENT
UID:hinto.net-event_show-6862698
DTSTART:20260419T200000
SEQUENCE:0
CREATED:20260329T150316
LAST-MODIFIED:20260329T150316
TRANSP:OPAQUE
DTEND:20260419T202700
LOCATION:
SUMMARY:La 1: Telegiornale
CLASS:PUBLIC
DESCRIPTION:
ORGANIZER:
DTSTAMP:20260420T082107
ATTACH:https://www.hinto.net/de/events/la-1-telegiornale-19-04-2026-2000-e2793314-20.html
END:VEVENT
END:VCALENDAR
