BEGIN:VCALENDAR
VERSION:2.0
PRODID:hinto.net
X-PUBLISHED-TTL:P1W
BEGIN:VEVENT
UID:hinto.net-event_show-6933249
DTSTART:20260501T220000
SEQUENCE:0
CREATED:20260422T052136
LAST-MODIFIED:20260422T052136
TRANSP:OPAQUE
DTEND:20260502T050000
LOCATION:
SUMMARY:Kopfklang w/ Ueberrest
CLASS:PUBLIC
DESCRIPTION:
ORGANIZER:
DTSTAMP:20260424T001948
ATTACH:https://www.hinto.net/de/events/kopfklang-w-ueberrest-01-05-2026-2200-e2854427-20.html
END:VEVENT
END:VCALENDAR
