BEGIN:VCALENDAR
VERSION:2.0
PRODID:hinto.net
X-PUBLISHED-TTL:P1W
BEGIN:VEVENT
UID:hinto.net-event_show-6881684
DTSTART:20260423T025000
SEQUENCE:0
CREATED:20260422T175552
LAST-MODIFIED:20260422T175552
TRANSP:OPAQUE
DTEND:20260423T043000
LOCATION:
SUMMARY:Kabel Eins: Green Zone
CLASS:PUBLIC
DESCRIPTION:
ORGANIZER:
DTSTAMP:20260423T215614
ATTACH:https://www.hinto.net/de/events/kabel-eins-green-zone-23-04-2026-0250-e2809402-20.html
END:VEVENT
END:VCALENDAR
