BEGIN:VCALENDAR
VERSION:2.0
PRODID:hinto.net
X-PUBLISHED-TTL:P1W
BEGIN:VEVENT
UID:hinto.net-event_show-6898396
DTSTART:20261217T193000
SEQUENCE:0
CREATED:20260410T051747
LAST-MODIFIED:20260410T051747
TRANSP:OPAQUE
DTEND:20261217T220000
LOCATION:Forum im Ried
SUMMARY:It's Christmas Time
CLASS:PUBLIC
DESCRIPTION:
ORGANIZER:
DTSTAMP:20260419T203858
ATTACH:https://www.hinto.net/de/events/its-christmas-time-17-12-2026-1930-forum-im-ried-landquart-e2823880-20.html
END:VEVENT
END:VCALENDAR
