BEGIN:VCALENDAR
VERSION:2.0
PRODID:hinto.net
X-PUBLISHED-TTL:P1W
BEGIN:VEVENT
UID:hinto.net-event_show-6296169
DTSTART:20260622T200000
SEQUENCE:0
CREATED:20250927T075938
LAST-MODIFIED:20250927T075938
TRANSP:OPAQUE
DTEND:20260622T000000
LOCATION:Théâtre de Beaulieu
SUMMARY:ISMO
CLASS:PUBLIC
DESCRIPTION:
ORGANIZER:
DTSTAMP:20260420T045958
ATTACH:https://www.hinto.net/de/events/ismo-22-06-2026-2000-theatre-de-beaulieu-lausanne-e2282815-20.html
END:VEVENT
END:VCALENDAR
