BEGIN:VCALENDAR
VERSION:2.0
PRODID:hinto.net
X-PUBLISHED-TTL:P1W
BEGIN:VEVENT
UID:hinto.net-event_show-6740343
DTSTART:20270130T200000
SEQUENCE:0
CREATED:20260221T100342
LAST-MODIFIED:20260221T100342
TRANSP:OPAQUE

LOCATION:Kula
SUMMARY:elie zoé
CLASS:PUBLIC
DESCRIPTION:
ORGANIZER:
DTSTAMP:20260419T184635
ATTACH:https://www.hinto.net/de/events/elie-zoe-30-01-2027-2000-kula-konstanz-e2700136-20.html
END:VEVENT
END:VCALENDAR
