BEGIN:VCALENDAR
VERSION:2.0
PRODID:hinto.net
X-PUBLISHED-TTL:P1W
BEGIN:VEVENT
UID:hinto.net-event_show-6866418
DTSTART:20260420T191500
SEQUENCE:0
CREATED:20260330T183929
LAST-MODIFIED:20260330T183929
TRANSP:OPAQUE
DTEND:20260420T201500
LOCATION:
SUMMARY:DMAX: Titanen aus Stahl
CLASS:PUBLIC
DESCRIPTION:
ORGANIZER:
DTSTAMP:20260419T174604
ATTACH:https://www.hinto.net/de/events/dmax-titanen-aus-stahl-20-04-2026-1915-e2796637-20.html
END:VEVENT
END:VCALENDAR
