BEGIN:VCALENDAR
VERSION:2.0
PRODID:hinto.net
X-PUBLISHED-TTL:P1W
BEGIN:VEVENT
UID:hinto.net-event_show-6925491
DTSTART:20260509T200000
SEQUENCE:0
CREATED:20260419T052235
LAST-MODIFIED:20260419T052235
TRANSP:OPAQUE

LOCATION:K9
SUMMARY:Der Bodensee-Cup
CLASS:PUBLIC
DESCRIPTION:
ORGANIZER:
DTSTAMP:20260420T073148
ATTACH:https://www.hinto.net/de/events/der-bodensee-cup-09-05-2026-2000-k9-konstanz-e2847540-20.html
END:VEVENT
END:VCALENDAR
