BEGIN:VCALENDAR
VERSION:2.0
PRODID:hinto.net
X-PUBLISHED-TTL:P1W
BEGIN:VEVENT
UID:hinto.net-event_show-6921976
DTSTART:20260512T184500
SEQUENCE:0
CREATED:20260417T072107
LAST-MODIFIED:20260417T072107
TRANSP:OPAQUE
DTEND:20260512T220000
LOCATION:Samariterverein Münsingen
SUMMARY:BLS-AED-SRC Komplett
CLASS:PUBLIC
DESCRIPTION:
ORGANIZER:
DTSTAMP:20260419T201007
ATTACH:https://www.hinto.net/de/events/bls-aed-src-komplett-12-05-2026-1845-samariterverein-muensingen-muensingen-e2844721-20.html
END:VEVENT
END:VCALENDAR
