BEGIN:VCALENDAR
VERSION:2.0
PRODID:hinto.net
X-PUBLISHED-TTL:P1W
BEGIN:VEVENT
UID:hinto.net-event_show-6919339
DTSTART:20260419T044500
SEQUENCE:0
CREATED:20260417T042114
LAST-MODIFIED:20260417T042114
TRANSP:OPAQUE
DTEND:20260419T052500
LOCATION:
SUMMARY:Arte: Sendepause
CLASS:PUBLIC
DESCRIPTION:
ORGANIZER:
DTSTAMP:20260419T174440
ATTACH:https://www.hinto.net/de/events/arte-sendepause-19-04-2026-0445-e2842296-20.html
END:VEVENT
END:VCALENDAR
