BEGIN:VCALENDAR
VERSION:2.0
PRODID:hinto.net
X-PUBLISHED-TTL:P1W
BEGIN:VEVENT
UID:hinto.net-event_show-6916732
DTSTART:20260418T224500
SEQUENCE:0
CREATED:20260416T230813
LAST-MODIFIED:20260416T230813
TRANSP:OPAQUE
DTEND:20260419T003500
LOCATION:
SUMMARY:Arte: Die Eroberung des Mondes
CLASS:PUBLIC
DESCRIPTION:
ORGANIZER:
DTSTAMP:20260420T012138
ATTACH:https://www.hinto.net/de/events/arte-die-eroberung-des-mondes-18-04-2026-2245-e2839689-20.html
END:VEVENT
END:VCALENDAR
