BEGIN:VCALENDAR
VERSION:2.0
PRODID:hinto.net
X-PUBLISHED-TTL:P1W
BEGIN:VEVENT
UID:hinto.net-event_show-6862736
DTSTART:20260419T131500
SEQUENCE:0
CREATED:20260329T150543
LAST-MODIFIED:20260329T150543
TRANSP:OPAQUE
DTEND:20260419T140000
LOCATION:
SUMMARY:ARD: Welche Allergie hast Du?
CLASS:PUBLIC
DESCRIPTION:
ORGANIZER:
DTSTAMP:20260419T191548
ATTACH:https://www.hinto.net/de/events/ard-welche-allergie-hast-du-19-04-2026-1315-e2793352-20.html
END:VEVENT
END:VCALENDAR
