BEGIN:VCALENDAR
VERSION:2.0
PRODID:hinto.net
X-PUBLISHED-TTL:P1W
BEGIN:VEVENT
UID:hinto.net-event_show-6872234
DTSTART:20260422T214500
SEQUENCE:0
CREATED:20260402T043816
LAST-MODIFIED:20260402T043816
TRANSP:OPAQUE
DTEND:20260422T221500
LOCATION:
SUMMARY:ARD: Plusminus
CLASS:PUBLIC
DESCRIPTION:
ORGANIZER:
DTSTAMP:20260420T021030
ATTACH:https://www.hinto.net/de/events/ard-plusminus-22-04-2026-2145-e2800638-20.html
END:VEVENT
END:VCALENDAR
