BEGIN:VCALENDAR
VERSION:2.0
PRODID:hinto.net
X-PUBLISHED-TTL:P1W
BEGIN:VEVENT
UID:hinto.net-event_show-6862741
DTSTART:20260419T180000
SEQUENCE:0
CREATED:20260329T150547
LAST-MODIFIED:20260329T150547
TRANSP:OPAQUE
DTEND:20260419T183000
LOCATION:
SUMMARY:ARD: Bericht aus Berlin
CLASS:PUBLIC
DESCRIPTION:
ORGANIZER:
DTSTAMP:20260421T064540
ATTACH:https://www.hinto.net/de/events/ard-bericht-aus-berlin-19-04-2026-1800-e2793357-20.html
END:VEVENT
END:VCALENDAR
