BEGIN:VCALENDAR
VERSION:2.0
PRODID:hinto.net
X-PUBLISHED-TTL:P1W
BEGIN:VEVENT
UID:hinto.net-event_show-6925521
DTSTART:20260509T220000
SEQUENCE:0
CREATED:20260419T052250
LAST-MODIFIED:20260419T052250
TRANSP:OPAQUE

LOCATION:Conrad Sohm
SUMMARY:All Black Everything
CLASS:PUBLIC
DESCRIPTION:
ORGANIZER:
DTSTAMP:20260419T233946
ATTACH:https://www.hinto.net/de/events/all-black-everything-09-05-2026-2200-conrad-sohm-dornbirn-e2847562-20.html
END:VEVENT
END:VCALENDAR
