BEGIN:VCALENDAR
VERSION:2.0
PRODID:hinto.net
X-PUBLISHED-TTL:P1W
BEGIN:VEVENT
UID:hinto.net-event_show-6862882
DTSTART:20260419T170000
SEQUENCE:0
CREATED:20260329T151258
LAST-MODIFIED:20260329T151258
TRANSP:OPAQUE
DTEND:20260419T183000
LOCATION:
SUMMARY:3Sat: Ein schrecklich reiches Paar
CLASS:PUBLIC
DESCRIPTION:
ORGANIZER:
DTSTAMP:20260419T221219
ATTACH:https://www.hinto.net/de/events/3sat-ein-schrecklich-reiches-paar-19-04-2026-1700-e2793498-20.html
END:VEVENT
END:VCALENDAR
