BEGIN:VCALENDAR
VERSION:2.0
PRODID:hinto.net
X-PUBLISHED-TTL:P1W
BEGIN:VEVENT
UID:hinto.net-event_show-6862876
DTSTART:20260419T122500
SEQUENCE:0
CREATED:20260329T151250
LAST-MODIFIED:20260329T151250
TRANSP:OPAQUE
DTEND:20260419T130000
LOCATION:
SUMMARY:3Sat: Druckfrisch
CLASS:PUBLIC
DESCRIPTION:
ORGANIZER:
DTSTAMP:20260420T021535
ATTACH:https://www.hinto.net/de/events/3sat-druckfrisch-19-04-2026-1225-e2793492-20.html
END:VEVENT
END:VCALENDAR
