BEGIN:VCALENDAR
VERSION:2.0
PRODID:hinto.net
X-PUBLISHED-TTL:P1W
BEGIN:VEVENT
UID:hinto.net-event_show-6872393
DTSTART:20260422T222500
SEQUENCE:0
CREATED:20260402T045157
LAST-MODIFIED:20260402T045157
TRANSP:OPAQUE
DTEND:20260423T001500
LOCATION:
SUMMARY:3Sat: Die Vergesslichkeit der Eichhörnchen
CLASS:PUBLIC
DESCRIPTION:
ORGANIZER:
DTSTAMP:20260424T074022
ATTACH:https://www.hinto.net/de/events/3sat-die-vergesslichkeit-der-eichhoernchen-22-04-2026-2225-e2800797-20.html
END:VEVENT
END:VCALENDAR
