BEGIN:VCALENDAR
VERSION:2.0
PRODID:hinto.net
X-PUBLISHED-TTL:P1W
BEGIN:VEVENT
UID:hinto.net-event_show-6852960
DTSTART:20260417T000000
SEQUENCE:0
CREATED:20260416T212947
LAST-MODIFIED:20260416T212947
TRANSP:OPAQUE
DTEND:20260417T022500
LOCATION:
SUMMARY:3+: Manhattan Love Story
CLASS:PUBLIC
DESCRIPTION:
ORGANIZER:
DTSTAMP:20260420T044959
ATTACH:https://www.hinto.net/de/events/3+-manhattan-love-story-17-04-2026-0000-e2784839-20.html
END:VEVENT
END:VCALENDAR
