BEGIN:VCALENDAR
VERSION:2.0
PRODID:hinto.net
X-PUBLISHED-TTL:P1W
BEGIN:VEVENT
UID:hinto.net-event_show-6939418
DTSTART:20260422T225000
SEQUENCE:0
CREATED:20260422T184832
LAST-MODIFIED:20260422T184832
TRANSP:OPAQUE
DTEND:20260423T003500
LOCATION:
SUMMARY:3+: Black Site
CLASS:PUBLIC
DESCRIPTION:
ORGANIZER:
DTSTAMP:20260423T231143
ATTACH:https://www.hinto.net/de/events/3+-black-site-22-04-2026-2250-e2854759-20.html
END:VEVENT
END:VCALENDAR
