BEGIN:VCALENDAR
VERSION:2.0
PRODID:hinto.net
X-PUBLISHED-TTL:P1W
BEGIN:VEVENT
UID:hinto.net-event_show-6925630
DTSTART:20260509T180000
SEQUENCE:0
CREATED:20260419T052302
LAST-MODIFIED:20260419T052302
TRANSP:OPAQUE

LOCATION:Bodenseeforum
SUMMARY:19. Konstanzer Jazzgipfel
CLASS:PUBLIC
DESCRIPTION:
ORGANIZER:
DTSTAMP:20260420T051756
ATTACH:https://www.hinto.net/de/events/19-konstanzer-jazzgipfel-09-05-2026-1800-bodenseeforum-konstanz-e2847604-20.html
END:VEVENT
END:VCALENDAR
