BEGIN:VCALENDAR
VERSION:2.0
PRODID:hinto.net
X-PUBLISHED-TTL:P1W
BEGIN:VEVENT
UID:hinto.net-event_show-6893809
DTSTART:20260429T200000
SEQUENCE:0
CREATED:20260409T055815
LAST-MODIFIED:20260409T055815
TRANSP:OPAQUE

LOCATION:La Brèche
SUMMARY:HYPER GAL + Big Pharma
CLASS:PUBLIC
DESCRIPTION:
ORGANIZER:
DTSTAMP:20260420T060522
ATTACH:https://www.hinto.net/de/events/hyper-gal-+-big-pharma-29-04-2026-2000-la-breche-lausanne-e2819755-20.html
END:VEVENT
END:VCALENDAR
