BEGIN:VCALENDAR
VERSION:2.0
PRODID:hinto.net
X-PUBLISHED-TTL:P1W
BEGIN:VEVENT
UID:hinto.net-event_show-6933268
DTSTART:20260508T220000
SEQUENCE:0
CREATED:20260422T052147
LAST-MODIFIED:20260422T052147
TRANSP:OPAQUE
DTEND:20260509T070000
LOCATION:Kaschemme
SUMMARY:ASTRO:TAURUS
CLASS:PUBLIC
DESCRIPTION:
ORGANIZER:
DTSTAMP:20260423T222849
ATTACH:https://www.hinto.net/de/events/astrotaurus-08-05-2026-2200-kaschemme-basel-e2854446-20.html
END:VEVENT
END:VCALENDAR
