BEGIN:VCALENDAR
VERSION:2.0
PRODID:hinto.net
X-PUBLISHED-TTL:P1W
BEGIN:VEVENT
UID:hinto.net-event_show-6933330
DTSTART:20260425T190000
SEQUENCE:0
CREATED:20260422T052214
LAST-MODIFIED:20260422T052214
TRANSP:OPAQUE
DTEND:20260425T200000
LOCATION:Silo 2
SUMMARY:Das Experiment
CLASS:PUBLIC
DESCRIPTION:
ORGANIZER:
DTSTAMP:20260424T015300
ATTACH:https://www.hinto.net/de/events/das-experiment-25-04-2026-1900-silo-2-basel-e2854506-20.html
END:VEVENT
END:VCALENDAR
