BEGIN:VCALENDAR
VERSION:2.0
PRODID:hinto.net
X-PUBLISHED-TTL:P1W
BEGIN:VEVENT
UID:hinto.net-event_show-6907149
DTSTART:20260425T110000
SEQUENCE:0
CREATED:20260413T063835
LAST-MODIFIED:20260413T063835
TRANSP:OPAQUE

LOCATION:L'Hacienda
SUMMARY:Le duo "ELEVATION" invite  Francis Coletta
CLASS:PUBLIC
DESCRIPTION:
ORGANIZER:
DTSTAMP:20260420T034622
ATTACH:https://www.hinto.net/de/events/le-duo-elevation-invite-francis-coletta-25-04-2026-1100-lhacienda-sierre-e2832012-20.html
END:VEVENT
END:VCALENDAR
