BEGIN:VCALENDAR
VERSION:2.0
PRODID:hinto.net
X-PUBLISHED-TTL:P1W
BEGIN:VEVENT
UID:hinto.net-event_show-6909663
DTSTART:20260424T100000
SEQUENCE:0
CREATED:20260414T033602
LAST-MODIFIED:20260414T033602
TRANSP:OPAQUE

LOCATION:mudac
SUMMARY:Exposition - Isao Takahata
CLASS:PUBLIC
DESCRIPTION:
ORGANIZER:
DTSTAMP:20260420T080502
ATTACH:https://www.hinto.net/de/events/exposition-isao-takahata-24-04-2026-1000-mudac-lausanne-e2834363-20.html
END:VEVENT
END:VCALENDAR
