BEGIN:VCALENDAR
VERSION:2.0
PRODID:hinto.net
X-PUBLISHED-TTL:P1W
BEGIN:VEVENT
UID:hinto.net-event_show-6924650
DTSTART:20260617T150000
SEQUENCE:0
CREATED:20260419T051504
LAST-MODIFIED:20260419T051504
TRANSP:OPAQUE

LOCATION:DAS ZELT
SUMMARY:Circus Knie
CLASS:PUBLIC
DESCRIPTION:
ORGANIZER:
DTSTAMP:20260419T191637
ATTACH:https://www.hinto.net/de/events/circus-knie-17-06-2026-1500-das-zelt-basel-e1952078-20.html
END:VEVENT
END:VCALENDAR
